BEGIN:VCALENDAR
VERSION:2.0
PRODID:icalendar-ruby
CALSCALE:GREGORIAN
METHOD:PUBLISH
BEGIN:VEVENT
DTSTAMP:20260424T075939Z
UID:31-216157@baytownunitedsda.org
DTSTART:20260531T210000Z
DTEND:20260607T000000Z
CLASS:PUBLIC
CREATED:20260414T194443
DESCRIPTION:Join us for Vacation Bible School: The Armor of God from May 31
 st–June 5th for a fun and faith-filled week of Bible stories\, music\, g
 ames\, crafts\, and fellowship. Come learn how to stand strong in God’s 
 love and truth as we grow together in faith. We would love for you\, your 
 family\, and your friends to be part of this special week.
LAST-MODIFIED:20260414T194443
LOCATION:Baytown United Seventh-day Adventist Church | Address: 401 W Nazro
  St\, Baytown\, TX 77520
SUMMARY:VBS 2026  THE ARMOR OF GOD
URL;VALUE=URI:https://www.baytownunitedsda.org/events/vbs-2026-the-armor-of
 -god/2026-05-31
ATTACH;FILENAME=Standing-strong-with-armor-of-God.png;FMTTYPE=image/png:htt
 ps://dq5pwpg1q8ru0.cloudfront.net/2026/04/14/15/06/35/50874fb3-7f5c-4706-a
 1ee-884125a876f9/Standing-strong-with-armor-of-God.png
END:VEVENT
END:VCALENDAR
