BEGIN:VCALENDAR
VERSION:2.0
PRODID:icalendar-ruby
CALSCALE:GREGORIAN
METHOD:PUBLISH
BEGIN:VEVENT
DTSTAMP:20260425T135711Z
UID:32-221372@baytownunitedsda.org
DTSTART:20260515T170000Z
DTEND:20260515T180000Z
CLASS:PUBLIC
CREATED:20260424T190648
DESCRIPTION:The Community Service Ministry exists to put faith into action 
 by meeting the needs of our neighbors and community. Through service proje
 cts\, outreach programs\, volunteer efforts\, and acts of compassion\, we 
 demonstrate God’s love in practical ways.\n 
LAST-MODIFIED:20260424T190648
LOCATION:Baytown United Seventh-day Adventist Church | Address: 401 W Nazro
  St\, Baytown\, TX 77520
SUMMARY:FOOD DISTRIBUTION DAY
URL;VALUE=URI:https://www.baytownunitedsda.org/events/food-distribution-day
 --32/2026-05-15
ATTACH;FILENAME=Cservice-flyer2.png;FMTTYPE=image/png:https://dq5pwpg1q8ru0
 .cloudfront.net/2026/04/24/16/49/16/56680e5f-8222-493d-8fbd-6123f9e05874/C
 service-flyer2.png
ATTACH;FILENAME=ChatGPT-Image-Apr-24-2026-05_20_35-PM.png;FMTTYPE=image/png
 :https://dq5pwpg1q8ru0.cloudfront.net/2026/04/24/23/06/48/1426da45-f9f8-4c
 9c-94b0-c3758da7cfe3/ChatGPT-Image-Apr-24-2026-05_20_35-PM.png
END:VEVENT
END:VCALENDAR
