BEGIN:VCALENDAR
VERSION:2.0
PRODID:icalendar-ruby
CALSCALE:GREGORIAN
METHOD:PUBLISH
BEGIN:VEVENT
DTSTAMP:20260424T080842Z
UID:29-215988@baytownunitedsda.org
DTSTART:20260417T150000Z
DTEND:20260417T160000Z
CLASS:PUBLIC
CREATED:20260414T112703
DESCRIPTION:
LAST-MODIFIED:20260414T112703
LOCATION:Baytown United Seventh-day Adventist Church | Address: 401 W Nazro
  St\, Baytown\, TX 77520
SUMMARY:FOOD DISTRIBUTION DAY
URL;VALUE=URI:https://www.baytownunitedsda.org/events/food-distribution-day
 --29/2026-04-17
ATTACH;FILENAME=Food-Drive-Facebook-Post.png;FMTTYPE=image/png:https://dq5p
 wpg1q8ru0.cloudfront.net/2026/02/09/15/55/05/c423ee41-fee5-41a9-b029-ffc7b
 d77b38a/Food-Drive-Facebook-Post.png
ATTACH;FILENAME=Food-Drive-5.png;FMTTYPE=image/png:https://dq5pwpg1q8ru0.cl
 oudfront.net/2026/02/09/20/45/54/738e064f-6766-4528-bbb3-2c6f5073e691/Food
 -Drive-5.png
ATTACH;FILENAME=Food-Drive-Facebook-Ad.png;FMTTYPE=image/png:https://dq5pwp
 g1q8ru0.cloudfront.net/2026/02/09/15/58/04/4cdcfad0-d1ad-4f62-8801-2a8af41
 41109/Food-Drive-Facebook-Ad.png
END:VEVENT
END:VCALENDAR
